Workbook
Name Additional_Factor: 'אפשרויות בחירה'!$C$706:$C$854
Name Amoritization: 'אפשרויות בחירה'!$C$544:$C$548
Name Capsule: 'אפשרויות בחירה'!$C$934:$C$936
Name Company_Name: 'File Name Info'!$A$34:$A$130
Name Company_Name_ID: 'File Name Info'!$A$34:$B$130
Name Consortium: 'אפשרויות בחירה'!$C$512:$C$513
Name Country_list: 'אפשרויות בחירה'!$C$4:$C$85
Name Country_list_funds: 'אפשרויות בחירה'!$C$4:$C$103
Name CSA: 'אפשרויות בחירה'!$C$693:$C$694
Name Delivery: 'אפשרויות בחירה'!$C$670:$C$671
Name Dependence_Independence: 'אפשרויות בחירה'!$C$658:$C$659
Name Duration_Underlying_Interest_Rate: 'אפשרויות בחירה'!$C$685:$C$692
Name File_Type: 'File Name Info'!$A$10:$A$12
Name Full_File_Type: 'File Name Info'!$A$11:$B$13
Name Full_Type: 'File Name Info'!$A$2:$B$8
Name Full_Type_Nostro: 'File Name Info'!$A$3:$B$6
Name Full_Year: 'File Name Info'!$A$22:$B$31
Name Fund_Strategy: 'אפשרויות בחירה'!$C$595:$C$625
Name Fund_type: 'אפשרויות בחירה'!$C$326:$C$496
Name Holding_interest: 'אפשרויות בחירה'!$C$146:$C$147
Name In_the_books: 'אפשרויות בחירה'!$C$660:$C$661
Name Industry_Sector: 'אפשרויות בחירה'!#REF!
Name Industry_sector_all: 'אפשרויות בחירה'!$C$202:$C$325
Name Industry_sectors: 'אפשרויות בחירה'!$C$202:$C$325
Name israel_abroad: 'אפשרויות בחירה'!$C$2:$C$3
Name Issuer_Number_Banks: 'אפשרויות בחירה'!$C$111:$C$113
Name Issuer_Number_Fund: 'אפשרויות בחירה'!$C$114:$C$117
Name issuer_number_loan: 'אפשרויות בחירה'!$C$118:$C$126
Name Issuer_Number_Type: 'אפשרויות בחירה'!$C$104:$C$110
Name Issuer_Number_Type_2: 'אפשרויות בחירה'!#REF!
Name Issuer_Number_Type_3: 'אפשרויות בחירה'!#REF!
Name Issuer_Number_Type_V2: 'אפשרויות בחירה'!$C$104:$C$110
Name Issuer_Type_TFunds: 'אפשרויות בחירה'!#REF!
Name Leading_factor: 'אפשרויות בחירה'!$C$697:$C$705
Name Linked_Type: 'אפשרויות בחירה'!$C$514:$C$517
Name other_investments: 'אפשרויות בחירה'!$C$1018:$C$1051
Name Penalty: 'אפשרויות בחירה'!$C$855:$C$856
Name QTR: 'File Name Info'!$A$15:$A$19
Name Rating_Agency: 'אפשרויות בחירה'!$C$188:$C$201
Name real_estate_lifestage: 'אפשרויות בחירה'!$C$638:$C$646
Name real_estate_loans: 'אפשרויות בחירה'!$C$551:$C$589
Name Real_Estate_Main_Use: 'אפשרויות בחירה'!$C$626:$C$637
Name Recourse_Nonrecourse: 'אפשרויות בחירה'!$C$542:$C$543
Name Repayment_Rights: 'אפשרויות בחירה'!$C$549:$C$550
Name Reset_frequency: 'אפשרויות בחירה'!$C$662:$C$669
Name Security_ID_Number_Type: 'אפשרויות בחירה'!#REF!
Name Security_Number_Loans: 'אפשרויות בחירה'!$C$131
Name Stock_Exchange: 'אפשרויות בחירה'!#REF!
Name Stock_Exchange_Gov_Bonds: 'אפשרויות בחירה'!$C$148:$C$181
Name Subordination_Risk: 'אפשרויות בחירה'!$C$186:$C$187
Name Tradeable_Status: 'אפשרויות בחירה'!#REF!
Name Tradeable_Status_All: 'אפשרויות בחירה'!$C$135:$C$145
Name tradeable_status_bonds: 'אפשרויות בחירה'!#REF!
Name tradeable_status_funds: 'אפשרויות בחירה'!#REF!
Name tradeable_status_stock: 'אפשרויות בחירה'!#REF!
Name Tradeable_Status_v2: 'אפשרויות בחירה'!#REF!
Name tradeable_status_warrants: 'אפשרויות בחירה'!#REF!
Name tradeable_status_warrants_v2: 'אפשרויות בחירה'!#REF!
Name Transaction: 'אפשרויות בחירה'!$C$647:$C$650
Name Type: 'File Name Info'!$A$2:$A$8

Sheet עמוד פתיחה
A1: קובץ דיווח עבור רשימת נכסים ברמת הנכס הבודד (חוזר גופים מוסדיים 2015-9-14)
A3: יש לבחור תחום: | D3: נכסי עמיתים - קופות גמל
A5: האם מדובר בקובץ לממומנה או לציבור: | D5: לציבור
A7: יש לבחור את רבעון הדיווח: | D7: 02
A9: יש לבחור את שנת הדיווח: | D9: 2026
A11: יש לבחור את הגוף המוסדי: | D11: מחוג - מינהל גמל לעובדי חברת חשמל לישראל בע"מ
A13: ח.פ. הגוף המוסדי: | D13: =IFERROR(VLOOKUP(D11,'File Name Info'!A35:B130,2,0),"תא מחושב") -> 512362914
A15: שם קובץ לשמירה | D15: =IF(D5="לממונה",CONCATENATE(D13, "_",VLOOKUP(D3,Full_Type,2,0),"_",D7,VLOOKUP(D9,Full_Year,2,0),".xlxs"),IF(D5="לציבור",CONCATENATE(D13,"_",VLOOKUP(D3,Full_Type_Nostro,2,0),"_",VLOOKUP(D5,Full_File_Type,2,0),"_",D7,VLOOKUP(D9,Full_Year,2,0),".xlsx"),"שם קובץ לשמירה")) -> 512362914_gm_p_0226.xlsx

Sheet סכום נכסים
C1: ידווח בקבצי נכסי הנוסטרו בלבד
A2: אפיק | B2: שווי הוגן (באלפי ש"ח) | C2: עלות מופחתת (באלפי ש"ח) | D2: השיטה שיושמה בדוח הכספי | E2: שיעור מסך נכסי השקעה
A3: מזומנים ושווי מזומנים | B3: =SUM('מזומנים ושווי מזומנים'!O:O) -> 207102.97 | E3: =SUM('מזומנים ושווי מזומנים'!O:O)/B30 -> 0.075652558
A4: איגרות חוב ממשלתיות | B4: =SUM('איגרות חוב ממשלתיות'!U:U) -> 1005165.6 | E4: =SUM('איגרות חוב ממשלתיות'!U:U)/B30 -> 0.36717653
A5: ניירות ערך מסחריים | B5: =SUM('ניירות ערך מסחריים'!AD:AD) -> 0 | E5: =SUM('ניירות ערך מסחריים'!AD:AD)/B30 -> 0
A6: איגרות חוב | B6: =SUM('איגרות חוב'!AD:AD) -> 421577.8 | E6: =SUM('איגרות חוב'!AD:AD)/B30 -> 0.15399798
A7: מניות מבכ ויהש | B7: =SUM('מניות מבכ ויהש'!U:U) -> 657447.74 | E7: =SUM('מניות מבכ ויהש'!U:U)/B30 -> 0.24015882
A8: קרנות סל | B8: =SUM('קרנות סל'!T:T) -> 134800.65 | E8: =SUM('קרנות סל'!T:T)/B30 -> 0.049241274
A9: קרנות נאמנות | B9: =SUM('קרנות נאמנות'!T:T) -> 0 | E9: =SUM('קרנות נאמנות'!T:T)/B30 -> 0
A10: כתבי אופציה | B10: =SUM('כתבי אופציה'!W:W) -> 1114.686 | E10: =SUM('כתבי אופציה'!W:W)/B30 -> 0.00040718319
A11: אופציות | B11: =SUM(אופציות!V:V) -> 0 | E11: =SUM(אופציות!V:V)/B30 -> 0
A12: חוזים עתידיים | B12: =SUM('חוזים עתידיים'!R:R) -> 2639.984 | E12: =SUM('חוזים עתידיים'!R:R)/B30 -> 0.00096435868
A13: מוצרים מובנים | B13: =SUM('מוצרים מובנים'!Z:Z) -> 9648.91 | E13: =SUM('מוצרים מובנים'!Z:Z)/B30 -> 0.0035246464
A14: לא סחיר איגרות חוב ממשלתיות | B14: =SUM('לא סחיר איגרות חוב ממשלתיות'!U:U) -> 0 | E14: =SUM('לא סחיר איגרות חוב ממשלתיות'!U:U)/B30 -> 0
A15: לא סחיר איגרות חוב מיועדות | B15: =SUM('לא סחיר איגרות חוב מיועדות'!N:N) -> 0 | E15: =SUM('לא סחיר איגרות חוב מיועדות'!N:N)/B30 -> 0
A16: אפיק השקעה מובטח תשואה | B16: =SUM('אפיק השקעה מובטח תשואה'!F:F) -> 0 | E16: =SUM('אפיק השקעה מובטח תשואה'!F:F)/B30 -> 0
A17: לא סחיר ניירות ערך מסחריים | B17: =SUM('לא סחיר ניירות ערך מסחריים'!AI:AI) -> 5936.735 | E17: =SUM('לא סחיר ניירות ערך מסחריים'!AI:AI)/B30 -> 0.0021686275
A18: לא סחיר איגרות חוב | B18: =SUM('לא סחיר איגרות חוב'!AG:AG) -> 33474.97 | E18: =SUM('לא סחיר איגרות חוב'!AG:AG)/B30 -> 0.012228058
A19: לא סחיר מניות מבכ ויהש | B19: =SUM('לא סחיר מניות מבכ ויהש'!X:X) -> 0 | E19: =SUM('לא סחיר מניות מבכ ויהש'!X:X)/B30 -> 0
A20: קרנות השקעה | B20: =SUM('קרנות השקעה'!W:W) -> 113176.5 | E20: =SUM('קרנות השקעה'!W:W)/B30 -> 0.041342197
A21: לא סחיר כתבי אופציה | B21: =SUM('לא סחיר כתבי אופציה'!Z:Z) -> 457.55 | E21: =SUM('לא סחיר כתבי אופציה'!Z:Z)/B30 -> 0.00016713825
A22: לא סחיר אופציות | B22: =SUM('לא סחיר אופציות'!Z:Z) -> 0 | E22: =SUM('לא סחיר אופציות'!Z:Z)/B30 -> 0
A23: לא סחיר נגזרים אחרים | B23: =SUM('לא סחיר נגזרים אחרים'!R:R) -> 15176.604 | E23: =SUM('לא סחיר נגזרים אחרים'!R:R)/B30 -> 0.0055438553
A24: הלוואות | B24: =SUM(הלוואות!AT:AT) -> 4739.886 | E24: =SUM(הלוואות!AT:AT)/B30 -> 0.001731431
A25: לא סחיר מוצרים מובנים | B25: =SUM('לא סחיר מוצרים מובנים'!AB:AB) -> 5195.742 | E25: =B25/B30 -> 0.0018979505
A26: פיקדונות מעל 3 חודשים | B26: =SUM('פיקדונות מעל 3 חודשים'!T:T) -> 119077.8 | E26: =SUM('פיקדונות מעל 3 חודשים'!T:T)/B30 -> 0.043497881
A27: זכויות מקרקעין | B27: =SUM('זכויות מקרקעין'!S:S) -> 1400 | E27: =SUM('זכויות מקרקעין'!S:S)/B30 -> 0.00051140543
A28: השקעה בחברות מוחזקות | B28: =SUM('השקעה בחברות מוחזקות'!U:U) -> 0 | E28: =SUM('השקעה בחברות מוחזקות'!U:U)/B30 -> 0
A29: נכסים אחרים | B29: =SUM('נכסים אחרים'!N:N) -> -580.076 | E29: =SUM('נכסים אחרים'!N:N)/B30 -> -0.00021189573
A30: סך הכל נכסים | B30: =IF(SUM(B3:B29)=0,0.0001,SUM(B3:B29)) -> 2737554 | C30: =SUM(C3:C29) -> 0 | D30: =SUM(D3:D29) -> 0 | E30: =SUM(E3:E29) -> 1
A31: מסגרות אשראי
A32: יתרות התחייבות להשקעה | B32: =SUM('יתרות התחייבות להשקעה'!O:O) -> 68118.19 | E32: =B32/B30 -> 0.024882866

Sheet מזומנים ושווי מזומנים
A1: מספר קופה/קרן/ח.פ. עבור חברת ביטוח | B1: מספר מסלול | C1: שם הבנק | D1: מספר מזהה בנק | E1: סוג מספר מזהה בנק | F1: מאפיין עיקרי | G1: ישראל/חו"ל | H1: בעל עניין/צד קשור | I1: דירוג הבנק | J1: שם מדרג | K1: מטבע פעילות | L1: שווי מטבעי | M1: שער חליפין | N1: שיעור ריבית | O1: שווי הוגן (באלפי ש"ח) | P1: שיעור מנכסי אפיק ההשקעה | Q1: שיעור מסך נכסי ההשקעה
A2: 13710 | B2: 13711 | C2: בנק מזרחי | D2: 20-444 | E2: סימול בנק | F2: מזומן ועו"ש נקוב במט"ח | G2: ישראל | H2: לא | I2: AAA | J2: S&P מעלות | K2: AUD | L2: 38.58 | M2: 2.0512 | O2: 79.135 | P2: 0.0096092678 | Q2: 0.00088254022
A3: 13710 | B3: 13711 | C3: בנק מזרחי | D3: 20-444 | E3: סימול בנק | F3: פקדון במט"ח עד שלושה חודשים | G3: ישראל | H3: לא | I3: AAA | J3: S&P מעלות | K3: AUD | L3: 19.889 | M3: 2.0512 | O3: 40.797 | P3: 0.0049539224 | Q3: 0.00045498116
A4: 13710 | B4: 13711 | C4: בנק מזרחי | D4: 20-444 | E4: סימול בנק | F4: פקדון במט"ח עד שלושה חודשים | G4: ישראל | H4: לא | I4: AAA | J4: S&P מעלות | K4: EUR | L4: 70.224 | M4: 3.3945 | O4: 238.376 | P4: 0.028945614 | Q4: 0.0026584407
A5: 13710 | B5: 13711 | C5: בנק מזרחי | D5: 20-444 | E5: סימול בנק | F5: פקדון במט"ח עד שלושה חודשים | G5: ישראל | H5: לא | I5: AAA | J5: S&P מעלות | K5: HKD | L5: 8.541 | M5: 0.3803 | O5: 3.248 | P5: 0.00039442315 | Q5: 3.6224851e-05
A6: 13710 | B6: 13711 | C6: בנק מזרחי | D6: 20-444 | E6: סימול בנק | F6: פקדון במט"ח עד שלושה חודשים | G6: ישראל | H6: לא | I6: AAA | J6: S&P מעלות | K6: USD | L6: 815.691 | M6: 2.978 | O6: 2429.127 | P6: 0.29496463 | Q6: 0.027090321
A7: 13710 | B7: 13711 | C7: בנק מזרחי | D7: 20-444 | E7: סימול בנק | F7: מזומן ועו"ש נקוב במט"ח | G7: ישראל | H7: לא | I7: AAA | J7: S&P מעלות | K7: USD | L7: 265.092 | M7: 2.978 | O7: 789.445 | P7: 0.095860881 | Q7: 0.0088041134
A8: 13710 | B8: 13711 | C8: בנק מזרחי | D8: 20-444 | E8: סימול בנק | F8: מזומן ועו"ש נקוב במט"ח | G8: ישראל | H8: לא | I8: AAA | J8: S&P מעלות | K8: HKD | L8: 116.546 | M8: 0.3803 | O8: 44.323 | P8: 0.0053820174 | Q8: 0.00049429852
A9: 13710 | B9: 13711 | C9: בנק מזרחי | D9: 20-444 | E9: סימול בנק | F9: מזומן ועו"ש נקוב במט"ח | G9: ישראל | H9: לא | I9: AAA | J9: S&P מעלות | K9: EUR | L9: 52.732 | M9: 3.3945 | O9: 179 | P9: 0.021735639 | Q9: 0.0019962578
A10: 13710 | B10: 13711 | C10: בנק מזרחי | D10: 20-444 | E10: סימול בנק | F10: מזומן ועו"ש נקוב במט"ח | G10: ישראל | H10: לא | I10: AAA | J10: S&P מעלות | K10: GBP | L10: 3.779 | M10: 3.9389 | O10: 14.885 | P10: 0.0018074576 | Q10: 0.00016600162
A11: 13710 | B11: 13711 | C11: בנק מזרחי | D11: 20-444 | E11: סימול בנק | F11: מזומן ועו"ש בש"ח | G11: ישראל | H11: לא | I11: AAA | J11: S&P מעלות | K11: ILS | L11: 70.724 | M11: 1 | O11: 70.724 | P11: 0.0085879351 | Q11: 0.00078873836
A12: 13710 | B12: 13711 | C12: בנק מזרחי | D12: 20-444 | E12: סימול בנק | F12: פח"ק/פר"י | G12: ישראל | H12: לא | I12: AAA | J12: S&P מעלות | K12: ILS | L12: 2621.649 | M12: 1 | O12: 2621.649 | P12: 0.31834223 | Q12: 0.029237381
A13: 13710 | B13: 13711 | C13: בנק לאומי לישראל בע"מ | D13: 10-800 | E13: סימול בנק | F13: מזומן ועו"ש נקוב במט"ח | G13: ישראל | H13: לא | I13: AAA | J13: S&P מעלות | K13: USD | L13: 3.477 | M13: 2.978 | O13: 10.354 | P13: 0.0012572283 | Q13: 0.00011546712
... A112: 559 | B112: 7207 | C112: בנק לאומי לישראל בע"מ | D112: 10-800 | E112: סימול בנק | F112: מזומן ועו"ש בש"ח | G112: ישראל | H112: לא | I112: AAA | J112: S&P מעלות | K112: ILS | L112: -0.001 | M112: 1 | O112: -0.001 | P112: -7.7964683e-08 | Q112: -6.0778133e-09

Sheet איגרות חוב ממשלתיות
A1: מספר קופה/קרן/ח.פ. עבור חברת ביטוח | B1: מספר מסלול | C1: שם מנפיק | D1: שם נייר ערך | E1: מספר נייר ערך | F1: מאפיין עיקרי | G1: ישראל/חו"ל | H1: מדינה לפי חשיפה כלכלית | I1: זירת מסחר | J1: דירוג | K1: שם מדרג | L1: מטבע פעילות | M1: מח"מ | N1: מועד פדיון | O1: שיעור ריבית | P1: תשואה לפדיון | Q1: סכום לקבל (במטבע הפעילות) | R1: ערך נקוב (יחידות) | S1: שער חליפין | T1: שער נייר הערך | U1: שווי הוגן (באלפי ש"ח) | V1: עלות מופחתת (באלפי ש"ח) | W1: השיטה שיושמה בדוח הכספי | X1: שיעור מערך נקוב מונפק | Y1: שיעור מנכסי אפיק ההשקעה | Z1: שיעור מסך נכסי ההשקעה
A2: 13710 | B2: 13711 | C2: מדינת ישראל | D2: מלווה קצר מועד 1016 | E2: IL0082610184 | F2: מק"מ קצר משנים עשר חודשים | G2: ישראל | H2: ישראל | I2: TASE | J2: RF | K2: פנימי | L2: ILS | M2: 0.750 | N2: 07/10/2026 | O2: 0 | P2: 0.0334 | R2: 271000 | S2: 1 | T2: 99.13 | U2: 268.642 | W2: שווי הוגן | X2: 1.5e-05 | Y2: 0.0085180579 | Z2: 0.002995976
A3: 13710 | B3: 13711 | C3: מדינת ישראל | D3: מלווה קצר מועד 1116 | E3: IL0082611174 | F3: מק"מ קצר משנים עשר חודשים | G3: ישראל | H3: ישראל | I3: TASE | J3: RF | K3: פנימי | L3: ILS | M3: 0.342 | N3: 04/11/2026 | O3: 0 | P3: 0.03283 | R3: 142000 | S3: 1 | T3: 98.9 | U3: 140.438 | W3: שווי הוגן | X3: 8e-06 | Y3: 0.0044529809 | Z3: 0.0015662049
A4: 13710 | B4: 13711 | C4: מדינת ישראל | D4: מלווה קצר מועד 217 | E4: IL0082702171 | F4: מק"מ קצר משנים עשר חודשים | G4: ישראל | H4: ישראל | I4: TASE | J4: RF | K4: פנימי | L4: ILS | M4: 0.592 | N4: 03/02/2027 | O4: 0 | P4: 0.03259 | R4: 224000 | S4: 1 | T4: 98.12 | U4: 219.789 | W4: שווי הוגן | X4: 1.1e-05 | Y4: 0.0069690206 | Z4: 0.0024511478
A5: 13710 | B5: 13711 | C5: מדינת ישראל | D5: מלווה קצר מועד 517 | E5: IL0082705141 | F5: מק"מ קצר משנים עשר חודשים | G5: ישראל | H5: ישראל | I5: TASE | J5: RF | K5: פנימי | L5: ILS | M5: 0.841 | N5: 05/05/2027 | O5: 0 | P5: 0.03232 | R5: 706268 | S5: 1 | T5: 97.36 | U5: 687.623 | W5: שווי הוגן | X5: 3.9e-05 | Y5: 0.021803002 | Z5: 0.0076685637
A6: 13710 | B6: 13711 | C6: מדינת ישראל | D6: מלווה קצר מועד 916 | E6: IL0082609111 | F6: מק"מ קצר משנים עשר חודשים | G6: ישראל | H6: ישראל | I6: TASE | J6: RF | K6: פנימי | L6: ILS | M6: 0.170 | N6: 02/09/2026 | O6: 0 | P6: 0.03423 | R6: 348000 | S6: 1 | T6: 99.43 | U6: 346.016 | W6: שווי הוגן | X6: 1.1e-05 | Y6: 0.010971421 | Z6: 0.0038588742
A7: 13710 | B7: 13711 | C7: מדינת ישראל | D7: ממשל צמודה 0527 | E7: IL0011408478 | F7: צמוד למדד המחירים לצרכן בריבית קבועה | G7: ישראל | H7: ישראל | I7: TASE | J7: RF | K7: פנימי | L7: ILS | M7: 0.912 | N7: 31/05/2027 | O7: 0.0075 | P7: 0.01726 | R7: 1947000 | S7: 1 | T7: 119.65 | U7: 2329.586 | W7: שווי הוגן | X7: 8e-05 | Y7: 0.073866045 | Z7: 0.025980206
A8: 13710 | B8: 13711 | C8: מדינת ישראל | D8: ממשל צמודה0431 | E8: IL0012207226 | F8: צמוד למדד המחירים לצרכן בריבית קבועה | G8: ישראל | H8: ישראל | I8: TASE | J8: RF | K8: פנימי | L8: ILS | M8: 4.639 | N8: 30/04/2031 | O8: 0.02 | P8: 0.01815 | R8: 4853000 | S8: 1 | T8: 103.97 | U8: 5045.664 | W8: שווי הוגן | X8: 0.000236 | Y8: 0.15998694 | Z8: 0.056270694
A9: 13710 | B9: 13711 | C9: מדינת ישראל | D9: ממשל צמודה0837 | E9: IL0012372053 | F9: צמוד למדד המחירים לצרכן בריבית קבועה | G9: ישראל | H9: ישראל | I9: TASE | J9: RF | K9: פנימי | L9: ILS | M9: 10.130 | N9: 31/08/2037 | O9: 0.01855 | P9: 0.01953 | R9: 200000 | S9: 1 | T9: 101 | U9: 202 | W9: שווי הוגן | X9: 2.4e-05 | Y9: 0.0064049768 | Z9: 0.002252762
A10: 13710 | B10: 13711 | C10: מדינת ישראל | D10: ממשל שיקלית 0928 | E10: IL0011508798 | F10: לא צמוד למדד המחירים לצרכן ריבית קבועה | G10: ישראל | H10: ישראל | I10: TASE | J10: RF | K10: פנימי | L10: ILS | M10: 2.177 | N10: 28/09/2028 | O10: 0.0225 | P10: 0.03278 | R10: 160000 | S10: 1 | T10: 99.5 | U10: 159.2 | W10: שווי הוגן | X10: 5e-06 | Y10: 0.0050478827 | Z10: 0.0017754441
A11: 13710 | B11: 13711 | C11: מדינת ישראל | D11: ממשל שקלית 0927 | E11: IL0012035791 | F11: לא צמוד למדד המחירים לצרכן ריבית קבועה | G11: ישראל | H11: ישראל | I11: TASE | J11: RF | K11: פנימי | L11: ILS | M11: 1.211 | N11: 30/09/2027 | O11: 0.0375 | P11: 0.03222 | R11: 152000.5 | S11: 1 | T11: 103.45 | U11: 157.245 | W11: שווי הוגן | X11: 4e-06 | Y11: 0.0049858786 | Z11: 0.001753636
A12: 13710 | B12: 13711 | C12: מדינת ישראל | D12: ממשל שקלית 0327 | E12: IL0011393449 | F12: לא צמוד למדד המחירים לצרכן ריבית קבועה | G12: ישראל | H12: ישראל | I12: TASE | J12: RF | K12: פנימי | L12: ILS | M12: 0.745 | N12: 31/03/2027 | O12: 0.02 | P12: 0.03205 | R12: 830000 | S12: 1 | T12: 99.63 | U12: 826.929 | W12: שווי הוגן | X12: 2.9e-05 | Y12: 0.026220104 | Z12: 0.0092221495
A13: 13710 | B13: 13711 | C13: מדינת ישראל | D13: ממשל שקלית 0335 | E13: IL0012023326 | F13: לא צמוד למדד המחירים לצרכן ריבית קבועה | G13: ישראל | H13: ישראל | I13: TASE | J13: RF | K13: פנימי | L13: ILS | M13: 7.499 | N13: 30/03/2035 | O13: 0.04 | P13: 0.0365 | R13: 1666369 | S13: 1 | T13: 103.59 | U13: 1726.192 | W13: שווי הוגן | X13: 4.2e-05 | Y13: 0.05473375 | Z13: 0.019250985
... A328: 559 | B328: 7207 | C328: US Govt | D328: US TREASURY 3.3 | E328: US91282CPL99 | F328: נקוב במט"ח | G328: חו"ל | H328: ארה"ב | I328: FOREIGN_GOV_SEC | J328: Aa1 | K328: Moodys | L328: USD | M328: 1.390 | N328: 30/11/2027 | O328: 0.03375 | P328: 0.04124 | R328: 20000 | S328: 2.978 | T328: 99.172 | U328: 59.067 | W328: שווי הוגן | X328: 0 | Y328: 0.0010049832 | Z328: 0.00045442621

Sheet ניירות ערך מסחריים
A1: מספר קופה/קרן/ח.פ. עבור חברת ביטוח | B1: מספר מסלול | C1: שם מנפיק | D1: מספר מנפיק | E1: סוג מספר מזהה מנפיק | F1: שם נייר ערך | G1: מספר נייר ערך | H1: סוג מספר נייר ערך | I1: מאפיין עיקרי | J1: ישראל/חו"ל | K1: מדינה לפי חשיפה כלכלית | L1: זירת מסחר | M1: ענף מסחר | N1: בעל עניין/צד קשור | O1: דירוג | P1: שם מדרג | Q1: דירוג נייר הערך/המנפיק | R1: מטבע פעילות | S1: מח"מ | T1: ריבית עוגן | U1: מועד פדיון | V1: שיעור ריבית | W1: תשואה לפדיון | X1: נחיתות חוזית | Y1: האם סווג כחוב בעייתי | Z1: ערך נקוב (יחידות) | AA1: שער חליפין | AB1: שער נייר הערך | AC1: סכום לקבל (במטבע הפעילות) | AD1: שווי הוגן (באלפי ש"ח) | AE1: עלות מופחתת (באלפי ש"ח) | AF1: עלות מופחתת (במטבע הפעילות) | AG1: השיטה שיושמה בדוח הכספי | AH1: שיעור מערך נקוב מונפק | AI1: שיעור מנכסי אפיק ההשקעה | AJ1: שיעור מסך נכסי ההשקעה

Sheet איגרות חוב
A1: מספר קופה/קרן/ח.פ. עבור חברת ביטוח | B1: מספר מסלול | C1: שם מנפיק | D1: מספר מנפיק | E1: סוג מספר מזהה מנפיק | F1: שם נייר ערך | G1: מספר נייר ערך | H1: סוג מספר נייר ערך | I1: מאפיין עיקרי | J1: ישראל/חו"ל | K1: מדינה לפי חשיפה כלכלית | L1: סטאטוס סחירות | M1: זירת מסחר | N1: ענף מסחר | O1: בעל עניין/צד קשור | P1: דירוג | Q1: שם מדרג | R1: דירוג נייר הערך/המנפיק | S1: מטבע פעילות | T1: מח"מ | U1: מועד פדיון | V1: שיעור ריבית | W1: תשואה לפדיון | X1: נחיתות חוזית | Y1: האם סווג כחוב בעייתי | Z1: ערך נקוב (יחידות) | AA1: שער חליפין | AB1: שער נייר הערך | AC1: סכום לקבל (במטבע הפעילות) | AD1: שווי הוגן (באלפי ש"ח) | AE1: עלות מופחתת (באלפי ש"ח) | AF1: עלות מופחתת (במטבע הפעילות) | AG1: השיטה שיושמה בדוח הכספי | AH1: שיעור מערך נקוב מונפק | AI1: שיעור מנכסי אפיק ההשקעה | AJ1: שיעור מסך נכסי ההשקעה
A2: 13710 | B2: 13711 | C2: אאורה השקעות בע"מ | D2: 520038274 | E2: ח.פ. | F2: אאורה אגח טז | G2: IL0037305799 | H2: ISIN | I2: לא צמוד למדד המחירים לצרכן | J2: ישראל | K2: ישראל | L2: סחיר | M2: TASE | N2: בנייה | O2: לא | P2: A2 | Q2: מידרוג Moodys | R2: נייר ערך | S2: ILS | T2: 0.735 | U2: 30/09/2027 | V2: 0.035 | W2: 0.04409 | X2: החוב לא נחות | Z2: 181808.54 | AA2: 1 | AB2: 100.26 | AD2: 182.281 | AG2: שווי הוגן | AH2: 0.002177 | AI2: 0.009398703 | AJ2: 0.0020328527
A3: 13710 | B3: 13711 | C3: אאורה השקעות בע"מ | D3: 520038274 | E3: ח.פ. | F3: אאורה אגח יט חסום מחוג 08/07/26 | G3: IL0012232968 | H3: ISIN | I3: לא צמוד למדד המחירים לצרכן | J3: ישראל | K3: ישראל | L3: חסום | M3: TASE | N3: בנייה | O3: לא | P3: A2 | Q3: מידרוג Moodys | R3: נייר ערך | S3: ILS | T3: 3.932 | U3: 30/08/2032 | V3: 0.058 | W3: 0.04525 | X3: החוב לא נחות | Z3: 45000 | AA3: 1 | AB3: 107.43 | AD3: 48.343 | AG3: שווי הוגן | AH3: 0.0003 | AI3: 0.0024926657 | AJ3: 0.00053914059
A4: 13710 | B4: 13711 | C4: אבו מגורים בע"מ | D4: 515724706 | E4: ח.פ. | F4: אבו מגורים אגחא | G4: IL0012316878 | H4: ISIN | I4: צמוד למדד המחירים לצרכן | J4: ישראל | K4: ישראל | L4: סחיר | M4: TASE | N4: נדל"ן מניב בישראל | O4: לא | P4: NR | Q4: NR | R4: NR | S4: ILS | T4: 2.010 | U4: 01/09/2028 | V4: 0.0374 | W4: 0.03106 | X4: החוב לא נחות | Z4: 125000 | AA4: 1 | AB4: 107.68 | AD4: 134.6 | AG4: שווי הוגן | AH4: 0.000372 | AI4: 0.0069401843 | AJ4: 0.0015010978
A5: 13710 | B5: 13711 | C5: אבו מגורים בע"מ | D5: 515724706 | E5: ח.פ. | F5: אבו מגורים אגחא חסום מחוג 23/10/26 | G5: IL0012316878 | H5: ISIN | I5: צמוד למדד המחירים לצרכן | J5: ישראל | K5: ישראל | L5: חסום | M5: TASE | N5: נדל"ן מניב בישראל | O5: לא | P5: NR | Q5: NR | R5: NR | S5: ILS | T5: 0.000 | U5: 01/09/2028 | V5: 0.0374 | W5: 0.03106 | X5: החוב לא נחות | Z5: 47668 | AA5: 1 | AB5: 107.463 | AD5: 51.225 | AG5: שווי הוגן | AH5: 0 | AI5: 0.0026412533 | AJ5: 0.00057127871
A6: 13710 | B6: 13711 | C6: אג'לן קומרשייל ריט הולדינגס אינק | D6: 002352046 | E6: מספר תאגיד או שותפות בחו"ל | F6: אג'לן אגח א | G6: IL0012232398 | H6: ISIN | I6: לא צמוד למדד המחירים לצרכן | J6: ישראל | K6: קנדה | L6: סחיר | M6: TASE | N6: נדל"ן מניב בחו"ל | O6: לא | P6: A- | Q6: S&P מעלות | R6: נייר ערך | S6: ILS | T6: 1.913 | U6: 30/06/2028 | V6: 0.0592 | W6: 0.05631 | X6: החוב לא נחות | Z6: 15000 | AA6: 1 | AB6: 100.7 | AD6: 15.105 | AG6: שווי הוגן | AH6: 2.6e-05 | AI6: 0.00077883718 | AJ6: 0.0001684553
A7: 13710 | B7: 13711 | C7: קבוצת אורון אחזקות והשקעות בע"מ | D7: 513432765 | E7: ח.פ. | F7: אורון קב אגח ג | G7: IL0011977639 | H7: ISIN | I7: לא צמוד למדד המחירים לצרכן | J7: ישראל | K7: ישראל | L7: סחיר | M7: TASE | N7: בנייה | O7: לא | P7: Baa1 | Q7: מידרוג Moodys | R7: נייר ערך | S7: ILS | T7: 1.944 | U7: 30/06/2029 | V7: 0.08 | W7: 0.05219 | X7: החוב לא נחות | Z7: 16947.37 | AA7: 1 | AB7: 105.5 | AD7: 17.879 | AG7: שווי הוגן | AH7: 6.1e-05 | AI7: 0.00092189342 | AJ7: 0.00019939704
A8: 13710 | B8: 13711 | C8: אוריון נכסים מסחריים בע"מ | D8: 517199469 | E8: ח.פ. | F8: אוריון נכס אגחא | G8: IL0012327685 | H8: ISIN | I8: צמוד למדד המחירים לצרכן | J8: ישראל | K8: ישראל | L8: סחיר | M8: TASE | N8: מסחר | O8: לא | P8: NR | Q8: NR | R8: NR | S8: ILS | T8: 3.034 | U8: 30/09/2029 | V8: 0.0438 | W8: 0.0393 | X8: החוב לא נחות | Z8: 212000 | AA8: 1 | AB8: 103.26 | AD8: 218.911 | AG8: שווי הוגן | AH8: 0.00018 | AI8: 0.0112874 | AJ8: 0.0024413605
A9: 13710 | B9: 13711 | C9: אוריון נכסים מסחריים בע"מ | D9: 517199469 | E9: ח.פ. | F9: אוריון נכס אגחב | G9: IL0012327768 | H9: ISIN | I9: לא צמוד למדד המחירים לצרכן | J9: ישראל | K9: ישראל | L9: סחיר | M9: TASE | N9: מסחר | O9: לא | P9: NR | Q9: NR | R9: NR | S9: ILS | T9: 3.630 | U9: 30/06/2030 | V9: 0.055 | W9: 0.07201 | X9: החוב לא נחות | Z9: 33604 | AA9: 1 | AB9: 94.61 | AD9: 31.793 | AG9: שווי הוגן | AH9: 0.000168 | AI9: 0.0016392831 | AJ9: 0.00035456181
A10: 13710 | B10: 13711 | C10: אוריין ש.מ. בע"מ | D10: 511068256 | E10: ח.פ. | F10: אוריין אגח ב | G10: IL0011433799 | H10: ISIN | I10: לא צמוד למדד המחירים לצרכן | J10: ישראל | K10: ישראל | L10: סחיר | M10: TASE | N10: שרותים | O10: לא | P10: A- | Q10: S&P מעלות | R10: נייר ערך | S10: ILS | T10: 0.499 | U10: 31/12/2026 | V10: 0.0325 | W10: 0.03389 | X10: החוב לא נחות | Z10: 3567.2 | AA10: 1 | AB10: 99.95 | AD10: 3.565 | AG10: שווי הוגן | AH10: 0.000164 | AI10: 0.00018383839 | AJ10: 3.9762547e-05
A11: 13710 | B11: 13711 | C11: איה ניו יורק לימיטד | D11: 2185148 | E11: מספר תאגיד או שותפות בחו"ל | F11: איה ניו יורק אגח א | G11: IL0012362807 | H11: ISIN | I11: לא צמוד למדד המחירים לצרכן | J11: ישראל | K11: ארה"ב | L11: סחיר | M11: TASE | N11: נדל"ן מניב בחו"ל | O11: לא | P11: NR | Q11: NR | R11: NR | S11: ILS | T11: 3.044 | U11: 31/12/2029 | V11: 0.077 | W11: 0.13794 | X11: החוב לא נחות | Z11: 86000 | AA11: 1 | AB11: 84.83 | AD11: 72.954 | AG11: שווי הוגן | AH11: 0.000294 | AI11: 0.0037616108 | AJ11: 0.00081360172
A12: 13710 | B12: 13711 | C12: איירפורט סיטי בע"מ | D12: 511659401 | E12: ח.פ. | F12: איירפורט אגח ה | G12: IL0011334872 | H12: ISIN | I12: צמוד למדד המחירים לצרכן | J12: ישראל | K12: ישראל | L12: סחיר | M12: TASE | N12: נדל"ן מניב בישראל | O12: לא | P12: AA | Q12: S&P מעלות | R12: נייר ערך | S12: ILS | T12: 1.630 | U12: 28/02/2029 | V12: 0.0234 | W12: 0.02438 | X12: החוב לא נחות | Z12: 122000.45 | AA12: 1 | AB12: 119.82 | AD12: 146.181 | AG12: שווי הוגן | AH12: 0.000106 | AI12: 0.0075373155 | AJ12: 0.0016302518
A13: 13710 | B13: 13711 | C13: אינפלי אויל קורפ. | D13: 2023950211 | E13: מספר תאגיד או שותפות בחו"ל | F13: אינפלי אגח א | G13: IL0012362492 | H13: ISIN | I13: לא צמוד למדד המחירים לצרכן | J13: ישראל | K13: ישראל | L13: סחיר | M13: TASE | N13: חיפושי נפט וגז | O13: לא | P13: Baa1 | Q13: מידרוג Moodys | R13: נייר ערך | S13: ILS | T13: 3.658 | U13: 15/12/2030 | V13: 0.0623 | W13: 0.05905 | X13: החוב לא נחות | Z13: 35000 | AA13: 1 | AB13: 101.73 | AD13: 35.605 | AG13: שווי הוגן | AH13: 6.4e-05 | AI13: 0.0018358747 | AJ13: 0.00039708276
... A41: 13710 | B41: 13711 | C41: אשטרום נכסים בע"מ | D41: 520036617 | E41: ח.פ. | F41: אשטרום נכ אגח 11 | G41: IL0025102380 | H41: ISIN | I41: צמוד למדד המחירים לצרכן | J41: ישראל | K41: ישראל | L41: סחיר | M41: TASE | N41: נדל"ן מניב בישראל | O41: לא | P41: A+ | Q41: S&P מעלות | R41: נייר ערך | S41: ILS | T41: 2.173 | U41: 30/10/2028 | V41: 0.0183 | W41: 0.02458 | X41: החוב לא נחות | Z41: 105857.8 | AA41: 1 | AB41: 118 | AD41: 124.912 | AG41: שווי הוגן | AH41: 0.000452 | AI41: 0.0064406666 | AJ41: 0.0013930567
A42: 13710 | B42: 13711 | C42: אשטרום נכסים בע"מ | D42: 520036617 | E42: ח.פ. | F42: אשטרום נכ אגח 12 | G42: IL0025102794 | H42: ISIN | I42: צמוד למדד המחירים לצרכן | J42: ישראל | K42: ישראל | L42: סחיר | M42: TASE | N42: נדל"ן מניב בישראל | O42: לא | P42: A+ | Q42: S&P מעלות | R42: נייר ערך | S42: ILS | T42: 2.644 | U42: 01/07/2029 | V42: 0.0153 | W42: 0.02438 | X42: החוב לא נחות | Z42: 66000.4 | AA42: 1 | AB42: 116.67 | AC42: 3.174 | AD42: 80.177 | AG42: שווי הוגן | AH42: 0.000136 | AI42: 0.0041340294 | AJ42: 0.00089415242
A43: 13710 | B43: 13711 | C43: בזק החברה הישראלית לתקשורת בע"מ | D43: 520031931 | E43: ח.פ. | F43: בזק אגח 12 | G43: IL0023002426 | H43: ISIN | I43: צמוד למדד המחירים לצרכן | J43: ישראל | K43: ישראל | L43: סחיר | M43: TASE | N43: תקשורת ומדיה | O43: לא | P43: AA | Q43: S&P מעלות | R43: נייר ערך | S43: ILS | T43: 2.360 | U43: 02/06/2030 | V43: 0.017 | W43: 0.02205 | X43: החוב לא נחות | Z43: 37600 | AA43: 1 | AB43: 116.37 | AD43: 43.755 | AG43: שווי הוגן | AH43: 3.7e-05 | AI43: 0.0022560817 | AJ43: 0.00048796966
A44: 13710 | B44: 13711 | C44: ביג מרכזי קניות (2004) בע"מ | D44: 513623314 | E44: ח.פ. | F44: ביג אגח כה | G44: IL0012361817 | H44: ISIN | I44: צמוד למדד המחירים לצרכן | J44: ישראל | K44: ישראל | L44: סחיר | M44: TASE | N44: נדל"ן מניב בישראל | O44: לא | P44: AA | Q44: S&P מעלות | R44: נייר ערך | S44: ILS | T44: 5.955 | U44: 20/11/2032 | V44: 0.0237 | W44: 0.02418 | X44: החוב לא נחות | Z44: 49000 | AA44: 1 | AB44: 101.21 | AD44: 49.593 | AG44: שווי הוגן | AH44: 4.9e-05 | AI44: 0.0025570867 | AJ44: 0.00055307425
A45: 13710 | B45: 13711 | C45: ביג מרכזי קניות (2004) בע"מ | D45: 513623314 | E45: ח.פ. | F45: ביג אגח יג | G45: IL0011595167 | H45: ISIN | I45: צמוד למדד המחירים לצרכן | J45: ישראל | K45: ישראל | L45: סחיר | M45: TASE | N45: נדל"ן מניב בישראל | O45: לא | P45: AA | Q45: S&P מעלות | R45: נייר ערך | S45: ILS | T45: 2.214 | U45: 25/03/2029 | V45: 0.0078 | W45: 0.0235 | X45: החוב לא נחות | Z45: 148000 | AA45: 1 | AB45: 114.51 | AD45: 169.475 | AG45: שווי הוגן | AH45: 0.000283 | AI45: 0.008738383 | AJ45: 0.0018900316
A46: 13710 | B46: 13711 | C46: ביג מרכזי קניות (2004) בע"מ | D46: 513623314 | E46: ח.פ. | F46: ביג אג"ח כ"א | G46: IL0012022179 | H46: ISIN | I46: צמוד למדד המחירים לצרכן | J46: ישראל | K46: ישראל | L46: סחיר | M46: TASE | N46: נדל"ן מניב בישראל | O46: לא | P46: AA | Q46: S&P מעלות | R46: נייר ערך | S46: ILS | T46: 3.832 | U46: 03/07/2030 | V46: 0.026 | W46: 0.02323 | X46: החוב לא נחות | Z46: 62199 | AA46: 1 | AB46: 108.26 | AC46: 0.866 | AD46: 68.203 | AG46: שווי הוגן | AH46: 0.000116 | AI46: 0.003516631 | AJ46: 0.00076061483
A47: 13710 | B47: 13711 | C47: ביג מרכזי קניות (2004) בע"מ | D47: 513623314 | E47: ח.פ. | F47: ביג אגח יא | G47: IL0011511172 | H47: ISIN | I47: צמוד למדד המחירים לצרכן | J47: ישראל | K47: ישראל | L47: סחיר | M47: TASE | N47: נדל"ן מניב בישראל | O47: לא | P47: AA | Q47: S&P מעלות | R47: נייר ערך | S47: ILS | T47: 1.222 | U47: 20/10/2027 | V47: 0.0182 | W47: 0.02346 | X47: החוב לא נחות | Z47: 1000 | AA47: 1 | AB47: 118.89 | AD47: 1.189 | AG47: שווי הוגן | AH47: 2e-06 | AI47: 6.1301524e-05 | AJ47: 1.3258954e-05
A48: 13710 | B48: 13711 | C48: ביג מרכזי קניות (2004) בע"מ | D48: 513623314 | E48: ח.פ. | F48: ביג אגח כג | G48: IL0012249558 | H48: ISIN | I48: צמוד למדד המחירים לצרכן | J48: ישראל | K48: ישראל | L48: סחיר | M48: TASE | N48: נדל"ן מניב בישראל | O48: לא | P48: Aa2 | Q48: מידרוג Moodys | R48: נייר ערך | S48: ILS | T48: 4.234 | U48: 10/01/2031 | V48: 0.0278 | W48: 0.02429 | X48: החוב לא נחות | Z48: 12902 | AA48: 1 | AB48: 104.87 | AD48: 13.53 | AG48: שווי הוגן | AH48: 3.8e-05 | AI48: 0.00069764462 | AJ48: 0.00015089409
A49: 13710 | B49: 13711 | C49: הבינלאומי הראשון הנפקות בע"מ | D49: 513141879 | E49: ח.פ. | F49: בינל הנפקות אגח יב | G49: IL0011823858 | H49: ISIN | I49: צמוד למדד המחירים לצרכן | J49: ישראל | K49: ישראל | L49: סחיר | M49: TASE | N49: בנקים | O49: לא | P49: AAA | Q49: S&P מעלות | R49: נייר ערך | S49: ILS | T49: 0.927 | U49: 07/12/2027 | V49: 0.001 | W49: 0.02317 | X49: החוב לא נחות | Z49: 56666.95 | AA49: 1 | AB49: 114.12 | AD49: 64.668 | AG49: שווי הוגן | AH49: 0.000182 | AI49: 0.0033343988 | AJ49: 0.0007211997
A50: 13710 | B50: 13711 | C50: הבינלאומי הראשון הנפקות בע"מ | D50: 513141879 | E50: ח.פ. | F50: בינל הנפקות אגח יג | G50: IL0012284696 | H50: ISIN | I50: צמוד למדד המחירים לצרכן | J50: ישראל | K50: ישראל | L50: סחיר | M50: TASE | N50: בנקים | O50: לא | P50: AAA | Q50: S&P מעלות | R50: נייר ערך | S50: ILS | T50: 2.105 | U50: 04/09/2028 | V50: 0.0252 | W50: 0.02145 | X50: החוב לא נחות | Z50: 171000 | AA50: 1 | AB50: 104.15 | AD50: 178.096 | AG50: שווי הוגן | AH50: 0.000101 | AI50: 0.0091829312 | AJ50: 0.0019861833
A51: 13710 | B51: 13711 | C51: בית-הזהב בע"מ | D51: 520034562 | E51: ח.פ. | F51: בית הזהב אגח ד | G51: IL0023501302 | H51: ISIN | I51: לא צמוד למדד המחירים לצרכן | J51: ישראל | K51: ישראל | L51: סחיר | M51: TASE | N51: נדל"ן מניב בישראל | O51: לא | P51: A- | Q51: S&P מעלות | R51: נייר ערך | S51: ILS | T51: 0.557 | U51: 31/10/2027 | V51: 0.0313 | W51: 0.04451 | X51: החוב לא נחות | Z51: 6000 | AA51: 1 | AB51: 99.82 | AD51: 5.989 | AG51: שווי הוגן | AH51: 9.4e-05 | AI51: 0.00030881242 | AJ51: 6.6793277e-05
A52: 13710 | B52: 13711 | C52: ב.גאון אחזקות בע"מ | D52: 512623950 | E52: ח.פ. | F52: גאון אחז אגח ה | G52: IL0012065640 | H52: ISIN | I52: לא צמוד למדד המחירים לצרכן | J52: ישראל | K52: ישראל | L52: סחיר | M52: TASE | N52: מתכת ומוצרי בניה | O52: לא | P52: NR | Q52: NR | R52: NR | S52: ILS | T52: 2.310 | U52: 30/06/2030 | V52: 0.0758 | W52: 0.0538 | X52: החוב לא נחות | Z52: 12000 | AA52: 1 | AB52: 105.2 | AD52: 12.624 | AG52: שווי הוגן | AH52: 0.000231 | AI52: 0.00065091298 | AJ52: 0.00014078647
A53: 13710 | B53: 13711 | C53: גבאי מניבים ופיתוח בע"מ | D53: 520032178 | E53: ח.פ. | F53: גבאי קב אגח ב 5.43% | G53: IL0012336348 | H53: ISIN | I53: לא צמוד למדד המחירים לצרכן | J53: ישראל | K53: ישראל | L53: סחיר | M53: TASE | N53: נדל"ן מניב בישראל | O53: לא | P53: NR | Q53: NR | R53: NR | S53: ILS | T53: 3.077 | U53: 31/12/2029 | V53: 0.0543 | W53: 0.05161 | X53: החוב לא נחות | Z53: 112000 | AA53: 1 | AB53: 101 | AD53: 113.12 | AG53: שווי הוגן | AH53: 0.000283 | AI53: 0.0058326423 | AJ53: 0.0012615467
A54: 13710 | B54: 13711 | C54: ג'י סיטי בע"מ | D54: 520033234 | E54: ח.פ. | F54: ג'י סיטי אגח טז | G54: IL0012607854 | H54: ISIN | I54: צמוד למדד המחירים לצרכן | J54: ישראל | K54: גלובלי | L54: סחיר | M54: TASE | N54: נדל"ן מניב בחו"ל | O54: לא | P54: A- | Q54: S&P מעלות | R54: נייר ערך | S54: ILS | T54: 1.889 | U54: 01/04/2029 | V54: 0.0175 | W54: 0.04564 | X54: החוב לא נחות | Z54: 85000 | AA54: 1 | AB54: 111.68 | AD54: 94.928 | AG54: שווי הוגן | AH54: 5.1e-05 | AI54: 0.0048946346 | AJ54: 0.0010586643
A55: 13710 | B55: 13711 | C55: ג'י סיטי בע"מ | D55: 520033234 | E55: ח.פ. | F55: ג'י סיטי אגח יג | G55: IL0012606526 | H55: ISIN | I55: צמוד למדד המחירים לצרכן | J55: ישראל | K55: גלובלי | L55: סחיר | M55: TASE | N55: נדל"ן מניב בחו"ל | O55: לא | P55: A- | Q55: S&P מעלות | R55: נייר ערך | S55: ILS | T55: 1.949 | U55: 30/06/2028 | V55: 0.0328 | W55: 0.04502 | X55: החוב לא נחות | Z55: 40000 | AA55: 1 | AB55: 118.2 | AD55: 47.28 | AG55: שווי הוגן | AH55: 3.8e-05 | AI55: 0.00243783 | AJ55: 0.00052728013
A56: 13710 | B56: 13711 | C56: ג'י סיטי בע"מ | D56: 520033234 | E56: ח.פ. | F56: ג'י סיטי אג יז | G56: IL0011981425 | H56: ISIN | I56: אג"ח להמרה לא צמוד למדד המחירים לצרכן | J56: ישראל | K56: גלובלי | L56: סחיר | M56: TASE | N56: נדל"ן מניב בחו"ל | O56: לא | P56: A- | Q56: S&P מעלות | R56: נייר ערך | S56: ILS | T56: 2.849 | U56: 01/07/2029 | V56: 0.055 | W56: 0.03987 | X56: החוב לא נחות | Z56: 19665 | AA56: 1 | AB56: 104.2 | AD56: 20.491 | AG56: שווי הוגן | AH56: 3.8e-05 | AI56: 0.0010565441 | AJ56: 0.00022852073
A57: 13710 | B57: 13711 | C57: ג'י סיטי בע"מ | D57: 520033234 | E57: ח.פ. | F57: ג'י סיטי אגח טו | G57: IL0012607698 | H57: ISIN | I57: צמוד למדד המחירים לצרכן | J57: ישראל | K57: גלובלי | L57: סחיר | M57: TASE | N57: נדל"ן מניב בחו"ל | O57: לא | P57: A | Q57: S&P מעלות | R57: נייר ערך | S57: ILS | T57: 1.341 | U57: 31/03/2028 | V57: 0.0133 | W57: 0.02474 | X57: החוב לא נחות | Z57: 46000 | AA57: 1 | AB57: 118.05 | AD57: 54.303 | AG57: שווי הוגן | AH57: 0.000159 | AI57: 0.0027999467 | AJ57: 0.00060560264
A58: 13710 | B58: 13711 | C58: ג'י סיטי בע"מ | D58: 520033234 | E58: ח.פ. | F58: ג'י סיטי אגח יב | G58: IL0012606039 | H58: ISIN | I58: צמוד למדד המחירים לצרכן | J58: ישראל | K58: גלובלי | L58: סחיר | M58: TASE | N58: נדל"ן מניב בחו"ל | O58: לא | P58: A- | Q58: S&P מעלות | R58: נייר ערך | S58: ILS | T58: 0.985 | U58: 30/06/2027 | V58: 0.04 | W58: 0.03454 | X58: החוב לא נחות | Z58: 3500 | AA58: 1 | AB58: 119.76 | AD58: 4.192 | AG58: שווי הוגן | AH58: 6e-06 | AI58: 0.00021612538 | AJ58: 4.6745926e-05
... A74: 13710 | B74: 13711 | C74: החברה לישראל בע"מ | D74: 520028010 | E74: ח.פ. | F74: חברה לישראל אגח 12 | G74: IL0057602513 | H74: ISIN | I74: לא צמוד למדד המחירים לצרכן | J74: ישראל | K74: ישראל | L74: סחיר | M74: TASE | N74: כימיה, גומי ופלסטיק | O74: לא | P74: A+ | Q74: S&P מעלות | R74: נייר ערך | S74: ILS | T74: 0.247 | U74: 30/09/2026 | V74: 0.036 | W74: 0.04547 | X74: החוב לא נחות | Z74: 71866.79 | AA74: 1 | AB74: 100.69 | AD74: 72.363 | AG74: שווי הוגן | AH74: 0.000649 | AI74: 0.0037311313 | AJ74: 0.00080700927
A75: 13710 | B75: 13711 | C75: קבוצת חג'ג' ייזום נדל"ן בע"מ | D75: 520033309 | E75: ח.פ. | F75: חג'ג' אגח יא | G75: IL0082303285 | H75: ISIN | I75: לא צמוד למדד המחירים לצרכן | J75: ישראל | K75: ישראל | L75: סחיר | M75: TASE | N75: בנייה | O75: לא | P75: NR | Q75: NR | R75: NR | S75: ILS | T75: 0.990 | U75: 01/07/2027 | V75: 0.029 | W75: 0.06399 | X75: החוב לא נחות | Z75: 29000 | AA75: 1 | AB75: 96.77 | AC75: 29.841 | AD75: 57.904 | AG75: שווי הוגן | AH75: 0.000235 | AI75: 0.0029856353 | AJ75: 0.00064576537
A76: 13710 | B76: 13711 | C76: יוניברסל מוטורס ישראל בע"מ | D76: 511809071 | E76: ח.פ. | F76: יוניברסל אגח ג | G76: IL0011606709 | H76: ISIN | I76: צמוד למדד המחירים לצרכן | J76: ישראל | K76: ישראל | L76: סחיר | M76: TASE | N76: מסחר | O76: לא | P76: AA- | Q76: S&P מעלות | R76: נייר ערך | S76: ILS | T76: 0.602 | U76: 10/08/2027 | V76: 0.0105 | W76: 0.03792 | X76: החוב לא נחות | Z76: 22442.33 | AA76: 1 | AB76: 116.65 | AD76: 26.179 | AG76: שווי הוגן | AH76: 9.8e-05 | AI76: 0.0013498286 | AJ76: 0.00029195548
A77: 13710 | B77: 13711 | C77: יוניברסל מוטורס ישראל בע"מ | D77: 511809071 | E77: ח.פ. | F77: יוניברסל אגח ד | G77: IL0011722530 | H77: ISIN | I77: לא צמוד למדד המחירים לצרכן | J77: ישראל | K77: ישראל | L77: סחיר | M77: TASE | N77: מסחר | O77: לא | P77: AA- | Q77: S&P מעלות | R77: נייר ערך | S77: ILS | T77: 1.322 | U77: 11/02/2029 | V77: 0.0218 | W77: 0.03981 | X77: החוב לא נחות | Z77: 50304.83 | AA77: 1 | AB77: 98.03 | AD77: 49.314 | AG77: שווי הוגן | AH77: 0.00024 | AI77: 0.0025426971 | AJ77: 0.00054996193
A78: 13710 | B78: 13711 | C78: יילוסטון ריל אסטייט קפיטל לטד | D78: 2203094 | E78: מספר תאגיד או שותפות בחו"ל | F78: יילוסטון א | G78: IL0012429325 | H78: ISIN | I78: לא צמוד למדד המחירים לצרכן | J78: ישראל | K78: ארה"ב | L78: סחיר | M78: TASE | N78: נדל"ן מניב בחו"ל | O78: לא | P78: NR | Q78: NR | R78: NR | S78: ILS | T78: 3.515 | U78: 30/06/2030 | V78: 0.075 | W78: 0.07366 | X78: החוב לא נחות | Z78: 59000 | AA78: 1 | AB78: 101.39 | AD78: 59.82 | AG78: שווי הוגן | AH78: 9.8e-05 | AI78: 0.0030844169 | AJ78: 0.00066713092
A79: 13710 | B79: 13711 | C79: ירושלים מימון והנפקות (2005) בע"מ | D79: 513682146 | E79: ח.פ. | F79: ירושלים הנפ אגח יט | G79: IL0012014333 | H79: ISIN | I79: צמוד למדד המחירים לצרכן | J79: ישראל | K79: ישראל | L79: סחיר | M79: TASE | N79: בנקים | O79: לא | P79: AA- | Q79: S&P מעלות | R79: נייר ערך | S79: ILS | T79: 2.965 | U79: 31/01/2031 | V79: 0.0259 | W79: 0.02302 | X79: החוב לא נחות | Z79: 69339 | AA79: 1 | AB79: 108.83 | AD79: 75.462 | AG79: שווי הוגן | AH79: 0.000102 | AI79: 0.0038909186 | AJ79: 0.0008415698
A80: 13710 | B80: 13711 | C80: ישפרו בע"מ | D80: 516291754 | E80: ח.פ. | F80: ישפרו אגח ג | G80: IL0012233537 | H80: ISIN | I80: צמוד למדד המחירים לצרכן | J80: ישראל | K80: ישראל | L80: סחיר | M80: TASE | N80: נדל"ן מניב בישראל | O80: לא | P80: NR | Q80: NR | R80: NR | S80: ILS | T80: 4.194 | U80: 30/09/2032 | V80: 0.0499 | W80: 0.05825 | X80: החוב לא נחות | Z80: 16000 | AA80: 1 | AB80: 99.79 | AD80: 15.966 | AG80: שווי הוגן | AH80: 0.000126 | AI80: 0.00082325229 | AJ80: 0.00017806188
A81: 13710 | B81: 13711 | C81: ישפרו בע"מ | D81: 516291754 | E81: ח.פ. | F81: ישפרו אגח ד | G81: IL0012329749 | H81: ISIN | I81: צמוד למדד המחירים לצרכן | J81: ישראל | K81: ישראל | L81: סחיר | M81: TASE | N81: נדל"ן מניב בישראל | O81: לא | P81: NR | Q81: NR | R81: NR | S81: ILS | T81: 5.011 | U81: 30/09/2032 | V81: 0.0358 | W81: 0.03585 | X81: החוב לא נחות | Z81: 35000 | AA81: 1 | AB81: 101.7 | AD81: 35.595 | AG81: שווי הוגן | AH81: 4.6e-05 | AI81: 0.0018353333 | AJ81: 0.00039696566
A82: 13710 | B82: 13711 | C82: ישראל קנדה (ט.ר) בעמ | D82: 520039298 | E82: ח.פ. | F82: ישראל קנדה אגח ז | G82: IL0043402127 | H82: ISIN | I82: לא צמוד למדד המחירים לצרכן | J82: ישראל | K82: ישראל | L82: סחיר | M82: TASE | N82: בנייה | O82: לא | P82: A- | Q82: S&P מעלות | R82: נייר ערך | S82: ILS | T82: 0.985 | U82: 30/06/2027 | V82: 0.0395 | W82: 0.04478 | X82: החוב לא נחות | Z82: 94920 | AA82: 1 | AB82: 99.56 | AD82: 94.502 | AG82: שווי הוגן | AH82: 0.000323 | AI82: 0.0048726875 | AJ82: 0.0010539174
...

Sheet מניות מבכ ויהש
A1: מספר קופה/קרן/ח.פ. עבור חברת ביטוח | B1: מספר מסלול | C1: שם מנפיק | D1: מספר מנפיק | E1: סוג מספר מזהה מנפיק | F1: שם נייר ערך | G1: מספר נייר ערך | H1: סוג מספר נייר ערך | I1: מאפיין עיקרי | J1: ישראל/חו"ל | K1: מדינה לפי חשיפה כלכלית | L1: סטאטוס סחירות | M1: זירת מסחר | N1: ענף מסחר | O1: בעל עניין/צד קשור | P1: מטבע פעילות | Q1: ערך נקוב (יחידות) | R1: שער חליפין | S1: שער נייר הערך | T1: סכום לקבל (במטבע הפעילות) | U1: שווי הוגן (באלפי ש"ח) | V1: שיעור מערך נקוב מונפק | W1: שיעור מנכסי אפיק ההשקעה | X1: שיעור מסך נכסי ההשקעה
A2: 13710 | B2: 13711 | C2: או.פי.סי. אנרגיה בע"מ | D2: 514401702 | E2: ח.פ. | F2: או פי סי אנרגיה | G2: IL0011415713 | H2: ISIN | I2: מניות | J2: ישראל | K2: ישראל | L2: סחיר | M2: TASE | N2: אנרגיה | O2: לא | P2: ILS | Q2: 4994 | R2: 1 | S2: 9250 | U2: 461.945 | V2: 1.6e-05 | W2: 0.025085812 | X2: 0.0051517432
A3: 13710 | B3: 13711 | C3: או.פי.סי. אנרגיה בע"מ | D3: 514401702 | E3: ח.פ. | F3: או פי סי אנרגיה חסום מחוג 16/09/26 | G3: IL0011415713 | H3: ISIN | I3: מניות | J3: ישראל | K3: ישראל | L3: חסום | M3: TASE | N3: אנרגיה | O3: לא | P3: ILS | Q3: 550 | R3: 1 | S3: 8939.447 | U3: 49.167 | V3: 0 | W3: 0.0026699998 | X3: 0.00054832401
A4: 13710 | B4: 13711 | C4: אוברסיז קומרס בע"מ | D4: 510490071 | E4: ח.פ. | F4: אוברסיז | G4: IL0011396178 | H4: ISIN | I4: מניות | J4: ישראל | K4: ישראל | L4: סחיר | M4: TASE | N4: שרותים | O4: לא | P4: ILS | Q4: 1150 | R4: 1 | S4: 603 | U4: 6.934 | V4: 2.1e-05 | W4: 0.00037657636 | X4: 7.7335534e-05
A5: 13710 | B5: 13711 | C5: אוריין ש.מ. בע"מ | D5: 511068256 | E5: ח.פ. | F5: אוריין | G5: IL0011035065 | H5: ISIN | I5: מניות | J5: ישראל | K5: ישראל | L5: סחיר | M5: TASE | N5: שרותים | O5: לא | P5: ILS | Q5: 446 | R5: 1 | S5: 2251 | U5: 10.039 | V5: 2.5e-05 | W5: 0.00054519046 | X5: 0.00011196294
A6: 13710 | B6: 13711 | C6: אורמת טכנולגיות אינק | D6: 5493000TSHHWY24VHM09 | E6: LEI | F6: אורמת טכנולוגיות | G6: US6866881021 | H6: ISIN | I6: מניות | J6: ישראל | K6: ארה"ב | L6: סחיר | M6: TASE | N6: אנרגיה מתחדשת | O6: לא | P6: ILS | Q6: 674 | R6: 1 | S6: 32500 | U6: 219.05 | V6: 1.2e-05 | W6: 0.011895458 | X6: 0.0024429085
A7: 13710 | B7: 13711 | C7: אזורים-חברה להשקעות בפתוח ובבנין בע"מ | D7: 520025990 | E7: ח.פ. | F7: אזורים חסום מחוג 27/08/26 | G7: IL0007150118 | H7: ISIN | I7: מניות | J7: ישראל | K7: ישראל | L7: חסום | M7: TASE | N7: בנייה | O7: לא | P7: ILS | Q7: 2016 | R7: 1 | S7: 1664 | U7: 33.546 | V7: 0 | W7: 0.0018217205 | X7: 0.0003741173
A8: 13710 | B8: 13711 | C8: אי.טי.גי. איי גרופ בע"מ | D8: 513764399 | E8: ח.פ. | F8: אי. טי. ג'י. איי | G8: IL0011761140 | H8: ISIN | I8: מניות | J8: ישראל | K8: ישראל | L8: סחיר | M8: TASE | N8: שרותים | O8: לא | P8: ILS | Q8: 881 | R8: 1 | S8: 2332 | U8: 20.545 | V8: 3.9e-05 | W8: 0.0011156869 | X8: 0.00022912284
A9: 13710 | B9: 13711 | C9: איי.די.איי. חברה לביטוח בע"מ | D9: 513910703 | E9: ח.פ. | F9: איידיאיי ביטוח | G9: IL0011295016 | H9: ISIN | I9: מניות | J9: ישראל | K9: ישראל | L9: סחיר | M9: TASE | N9: ביטוח | O9: לא | P9: ILS | Q9: 892 | R9: 1 | S9: 23030 | U9: 205.428 | V9: 6e-05 | W9: 0.011155696 | X9: 0.0022909876
A10: 13710 | B10: 13711 | C10: איירפורט סיטי בע"מ | D10: 511659401 | E10: ח.פ. | F10: אירפורט סיטי | G10: IL0010958358 | H10: ISIN | I10: מניות | J10: ישראל | K10: ישראל | L10: סחיר | M10: TASE | N10: נדל"ן מניב בישראל | O10: לא | P10: ILS | Q10: 1681 | R10: 1 | S10: 5340 | U10: 89.765 | V10: 1.3e-05 | W10: 0.0048746885 | X10: 0.0010010895
A11: 13710 | B11: 13711 | C11: אלביט מערכות בע"מ | D11: 520043027 | E11: ח.פ. | F11: אלביט מערכות | G11: IL0010811243 | H11: ISIN | I11: מניות | J11: ישראל | K11: ישראל | L11: סחיר | M11: TASE | N11: ביטחוניות | O11: לא | P11: ILS | Q11: 149 | R11: 1 | S11: 226000 | T11: 0.444 | U11: 337.184 | V11: 3e-06 | W11: 0.018310689 | X11: 0.0037603713
A12: 13710 | B12: 13711 | C12: אלדן תחבורה בע"מ | D12: 510454333 | E12: ח.פ. | F12: אלדן תחבורה | G12: IL0011348815 | H12: ISIN | I12: מניות | J12: ישראל | K12: ישראל | L12: סחיר | M12: TASE | N12: שרותים | O12: לא | P12: ILS | Q12: 1863 | R12: 1 | S12: 627.8 | U12: 11.696 | V12: 1.8e-05 | W12: 0.0006351438 | X12: 0.00013043619
A13: 13710 | B13: 13711 | C13: אלומיי קפיטל בע"מ | D13: 520039868 | E13: ח.פ. | F13: אלומיי קפיטל | G13: IL0010826357 | H13: ISIN | I13: מניות | J13: ישראל | K13: ישראל | L13: סחיר | M13: TASE | N13: אנרגיה מתחדשת | O13: לא | P13: ILS | Q13: 937 | R13: 1 | S13: 5646 | U13: 52.903 | V13: 6.7e-05 | W13: 0.0028728858 | X13: 0.00058998966
A14: 13710 | B14: 13711 | C14: אלוני-חץ נכסים והשקעות בע"מ | D14: 520038506 | E14: ח.פ. | F14: אלוני חץ | G14: IL0003900136 | H14: ISIN | I14: מניות | J14: ישראל | K14: ישראל | L14: סחיר | M14: TASE | N14: נדל"ן מניב בישראל | O14: לא | P14: ILS | Q14: 3394 | R14: 1 | S14: 3316 | U14: 112.545 | V14: 1.5e-05 | W14: 0.0061117314 | X14: 0.0012551346
A15: 13710 | B15: 13711 | C15: אלקו בע"מ | D15: 520025370 | E15: ח.פ. | F15: אלקו החזקות | G15: IL0006940345 | H15: ISIN | I15: מניות | J15: ישראל | K15: ישראל | L15: סחיר | M15: TASE | N15: השקעה ואחזקות | O15: לא | P15: ILS | Q15: 987 | R15: 1 | S15: 14680 | U15: 144.892 | V15: 2.8e-05 | W15: 0.0078683036 | X15: 0.0016158727
A16: 13710 | B16: 13711 | C16: אמות השקעות בע"מ | D16: 520026683 | E16: ח.פ. | F16: אמות | G16: IL0010972789 | H16: ISIN | I16: מניות | J16: ישראל | K16: ישראל | L16: סחיר | M16: TASE | N16: נדל"ן מניב בישראל | O16: לא | P16: ILS | Q16: 13643 | R16: 1 | S16: 1853 | U16: 252.805 | V16: 2.8e-05 | W16: 0.013728503 | X16: 0.0028193516
A17: 13710 | B17: 13711 | C17: אנלייט אנרגיה מתחדשת בע"מ | D17: 520041146 | E17: ח.פ. | F17: אנלייט אנרגיה | G17: IL0007200111 | H17: ISIN | I17: מניות | J17: ישראל | K17: ארה"ב | L17: סחיר | M17: TASE | N17: אנרגיה מתחדשת | O17: לא | P17: ILS | Q17: 2782.2 | R17: 1 | S17: 26300 | U17: 731.719 | V17: 2e-05 | W17: 0.039735803 | X17: 0.0081603358
A18: 13710 | B18: 13711 | C18: אנלייט אנרגיה מתחדשת בע"מ | D18: 520041146 | E18: ח.פ. | F18: אנלייט אנרגיה חסום מחוג 25/08/26 | G18: IL0007200111 | H18: ISIN | I18: מניות | J18: ישראל | K18: ישראל | L18: חסום | M18: TASE | N18: אנרגיה מתחדשת | O18: לא | P18: ILS | Q18: 285 | R18: 1 | S18: 26170.446 | U18: 74.586 | V18: 2e-06 | W18: 0.0040503624 | X18: 0.00083180193
A19: 13710 | B19: 13711 | C19: Energean plc | D19: 549300RVMKU0CYUZBB05 | E19: LEI | F19: אנרג'יאן | G19: GB00BG12Y042 | H19: ISIN | I19: מניות | J19: ישראל | K19: בריטניה | L19: סחיר | M19: TASE | N19: חיפושי נפט וגז | O19: לא | P19: ILS | Q19: 3041 | R19: 1 | S19: 2679 | T19: 0.906 | U19: 82.374 | V19: 1.7e-05 | W19: 0.0044733003 | X19: 0.00091865849
A20: 13710 | B20: 13711 | C20: אפי נכסים בע"מ | D20: 510560188 | E20: ח.פ. | F20: אפי נכסים | G20: IL0010913544 | H20: ISIN | I20: מניות | J20: ישראל | K20: ישראל | L20: סחיר | M20: TASE | N20: נדל"ן מניב בחו"ל | O20: לא | P20: ILS | Q20: 1117 | R20: 1 | S20: 19360 | U20: 216.251 | V20: 2.7e-05 | W20: 0.011743469 | X20: 0.0024116954
A21: 13710 | B21: 13711 | C21: אקויטל בע"מ | D21: 520030859 | E21: ח.פ. | F21: אקויטל | G21: IL0007550176 | H21: ISIN | I21: מניות | J21: ישראל | K21: ישראל | L21: סחיר | M21: TASE | N21: השקעה ואחזקות | O21: לא | P21: ILS | Q21: 176 | R21: 1 | S21: 10380 | U21: 18.269 | V21: 5e-06 | W21: 0.0009920828 | X21: 0.0002037389
A22: 13710 | B22: 13711 | C22: אקונרג'י אנרגיה מתחדשת בע"מ | D22: 516339777 | E22: ח.פ. | F22: אקונרג'י | G22: IL0011783342 | H22: ISIN | I22: מניות | J22: ישראל | K22: ישראל | L22: סחיר | M22: TASE | N22: אנרגיה מתחדשת | O22: לא | P22: ILS | Q22: 2191.1 | R22: 1 | S22: 6300 | U22: 138.039 | V22: 2.9e-05 | W22: 0.007496191 | X22: 0.0015394539
A23: 13710 | B23: 13711 | C23: אקונרג'י אנרגיה מתחדשת בע"מ | D23: 516339777 | E23: ח.פ. | F23: אקונרג'י חסום מחוג 01/12/26 | G23: IL0011783342 | H23: ISIN | I23: מניות | J23: ישראל | K23: ישראל | L23: חסום | M23: TASE | N23: אנרגיה מתחדשת | O23: לא | P23: ILS | Q23: 570 | R23: 1 | S23: 5707.007 | U23: 32.53 | V23: 8e-06 | W23: 0.0017665307 | X23: 0.00036278324
A24: 13710 | B24: 13711 | C24: אקונרג'י אנרגיה מתחדשת בע"מ | D24: 516339777 | E24: ח.פ. | F24: אקונרג'י חסום מחוג 09/07/26 | G24: IL0011783342 | H24: ISIN | I24: מניות | J24: ישראל | K24: ישראל | L24: חסום | M24: TASE | N24: אנרגיה מתחדשת | O24: לא | P24: ILS | Q24: 680 | R24: 1 | S24: 6300 | U24: 42.84 | V24: 1e-05 | W24: 0.0023264159 | X24: 0.00047776398
A25: 13710 | B25: 13711 | C25: ארד בע"מ | D25: 510007800 | E25: ח.פ. | F25: ארד | G25: IL0010916513 | H25: ISIN | I25: מניות | J25: ישראל | K25: גלובלי | L25: סחיר | M25: TASE | N25: אלקטרוניקה ואופטיקה | O25: לא | P25: ILS | Q25: 1380 | R25: 1 | S25: 5821 | U25: 80.33 | V25: 5.6e-05 | W25: 0.0043622905 | X25: 0.00089586098
A26: 13710 | B26: 13711 | C26: ארי נדל"ן(ארנה) השקעות בע"מ | D26: 520038332 | E26: ח.פ. | F26: ארי נדלן | G26: IL0003660136 | H26: ISIN | I26: מניות | J26: ישראל | K26: ישראל | L26: סחיר | M26: TASE | N26: נדל"ן מניב בישראל | O26: לא | P26: ILS | Q26: 30089 | R26: 1 | S26: 610 | U26: 183.543 | V26: 8.2e-05 | W26: 0.0099672531 | X26: 0.0020469231
A27: 13710 | B27: 13711 | C27: בתי זקוק לנפט בע"מ | D27: 520036658 | E27: ח.פ. | F27: בזן | G27: IL0025902482 | H27: ISIN | I27: מניות | J27: ישראל | K27: ישראל | L27: סחיר | M27: TASE | N27: אנרגיה | O27: לא | P27: ILS | Q27: 78222 | R27: 1 | S27: 157.5 | U27: 123.2 | V27: 2.4e-05 | W27: 0.0066903274 | X27: 0.0013739579
A28: 13710 | B28: 13711 | C28: בזק החברה הישראלית לתקשורת בע"מ | D28: 520031931 | E28: ח.פ. | F28: בזק | G28: IL0002300114 | H28: ISIN | I28: מניות | J28: ישראל | K28: ישראל | L28: סחיר | M28: TASE | N28: תקשורת ומדיה | O28: לא | P28: ILS | Q28: 76816 | R28: 1 | S28: 702.7 | U28: 539.786 | V28: 2.8e-05 | W28: 0.029312951 | X28: 0.0060198488
A29: 13710 | B29: 13711 | C29: ביג מרכזי קניות (2004) בע"מ | D29: 513623314 | E29: ח.פ. | F29: ביג | G29: IL0010972607 | H29: ISIN | I29: מניות | J29: ישראל | K29: ישראל | L29: סחיר | M29: TASE | N29: נדל"ן מניב בישראל | O29: לא | P29: ILS | Q29: 588 | R29: 1 | S29: 67510 | U29: 396.959 | V29: 2.3e-05 | W29: 0.021556752 | X29: 0.0044269985
A30: 13710 | B30: 13711 | C30: הבנק הבינלאומי הראשון לישראל בע"מ | D30: 520029083 | E30: ח.פ. | F30: בינלאומי 5 | G30: IL0005930388 | H30: ISIN | I30: מניות | J30: ישראל | K30: ישראל | L30: סחיר | M30: TASE | N30: בנקים | O30: לא | P30: ILS | Q30: 285 | R30: 1 | S30: 21090 | U30: 60.106 | V30: 3e-06 | W30: 0.0032640691 | X30: 0.00067032494
A31: 13710 | B31: 13711 | C31: גילת רשתות לווין בע"מ | D31: 520038936 | E31: ח.פ. | F31: גילת | G31: IL0010825102 | H31: ISIN | I31: מניות | J31: ישראל | K31: ארה"ב | L31: סחיר | M31: TASE | N31: ציוד תקשורת | O31: לא | P31: ILS | Q31: 3239 | R31: 1 | S31: 3949 | U31: 127.908 | V31: 4.3e-05 | W31: 0.0069460192 | X31: 0.001426468
... A38: 13710 | B38: 13711 | C38: י.ח.דמרי בניה ופיתוח בע"מ | D38: 511399388 | E38: ח.פ. | F38: דמרי חסום מחוג 15/10/26 | G38: IL0010903156 | H38: ISIN | I38: מניות | J38: ישראל | K38: ישראל | L38: חסום | M38: TASE | N38: בנייה | O38: לא | P38: ILS | Q38: 50 | R38: 1 | S38: 35418.056 | U38: 17.709 | V38: 2e-06 | W38: 0.00096168451 | X38: 0.00019749616
A39: 13710 | B39: 13711 | C39: הראל השקעות בביטוח ושרותים פיננסים בע"מ | D39: 520033986 | E39: ח.פ. | F39: הראל השקעות | G39: IL0005850180 | H39: ISIN | I39: מניות | J39: ישראל | K39: ישראל | L39: סחיר | M39: TASE | N39: ביטוח | O39: לא | P39: ILS | Q39: 1241 | R39: 1 | S39: 15660 | T39: 3.089 | U39: 197.429 | V39: 5e-06 | W39: 0.010721342 | X39: 0.0022017863
A40: 13710 | B40: 13711 | C40: וואן טכנולוגיות תוכנה(או.אס.טי)בע"מ | D40: 520034695 | E40: ח.פ. | F40: וואן טכנולוגיות תוכנה | G40: IL0001610182 | H40: ISIN | I40: מניות | J40: ישראל | K40: ישראל | L40: סחיר | M40: TASE | N40: שרותי מידע | O40: לא | P40: ILS | Q40: 1859 | R40: 1 | S40: 5681 | U40: 105.61 | V40: 2.5e-05 | W40: 0.0057351143 | X40: 0.0011777907
A41: 13710 | B41: 13711 | C41: וילאר אינטרנשיונל בע"מ | D41: 520038910 | E41: ח.פ. | F41: וילאר | G41: IL0004160169 | H41: ISIN | I41: מניות | J41: ישראל | K41: ישראל | L41: סחיר | M41: TASE | N41: נדל"ן מניב בישראל | O41: לא | P41: ILS | Q41: 295 | R41: 1 | S41: 17810 | U41: 52.539 | V41: 1.7e-05 | W41: 0.0028531449 | X41: 0.00058593558
A42: 13710 | B42: 13711 | C42: ג.ויליפוד אינטרנשיונל בע"מ (דואלי) | D42: 520043209 | E42: ח.פ. | F42: ויליפוד אינטרנשיונל | G42: IL0010828585 | H42: ISIN | I42: מניות | J42: ישראל | K42: ישראל | L42: סחיר | M42: TASE | N42: מסחר | O42: לא | P42: ILS | Q42: 338 | R42: 1 | S42: 9912 | U42: 33.503 | V42: 2.4e-05 | W42: 0.0018193485 | X42: 0.00037363016
A43: 13710 | B43: 13711 | C43: החברה לישראל בע"מ | D43: 520028010 | E43: ח.פ. | F43: חברה לישראל | G43: IL0005760173 | H43: ISIN | I43: מניות | J43: ישראל | K43: ישראל | L43: סחיר | M43: TASE | N43: כימיה, גומי ופלסטיק | O43: לא | P43: ILS | Q43: 518 | R43: 1 | S43: 76090 | U43: 394.146 | V43: 6.7e-05 | W43: 0.021404015 | X43: 0.0043956315
A44: 13710 | B44: 13711 | C44: טאואר סמיקונדקטור בע"מ | D44: 520041997 | E44: ח.פ. | F44: טאואר | G44: IL0010823792 | H44: ISIN | I44: מניות | J44: ישראל | K44: גלובלי | L44: סחיר | M44: TASE | N44: מוליכים למחצה | O44: לא | P44: ILS | Q44: 118 | R44: 1 | S44: 76440 | U44: 90.199 | V44: 1e-06 | W44: 0.0048982459 | X44: 0.0010059274
A45: 13710 | B45: 13711 | C45: טבע תעשיות פרמצבטיות בע"מ | D45: 520013954 | E45: ח.פ. | F45: טבע | G45: IL0006290147 | H45: ISIN | I45: מניות | J45: ישראל | K45: ארה"ב | L45: סחיר | M45: TASE | N45: פארמה | O45: לא | P45: ILS | Q45: 4502 | R45: 1 | S45: 9837 | U45: 442.862 | V45: 4e-06 | W45: 0.0240495 | X45: 0.0049389212
A46: 13710 | B46: 13711 | C46: טראלייט בע"מ | D46: 516414679 | E46: ח.פ. | F46: טראלייט | G46: IL0011801730 | H46: ISIN | I46: מניות | J46: ישראל | K46: ישראל | L46: סחיר | M46: TASE | N46: אנרגיה מתחדשת | O46: לא | P46: ILS | Q46: 3094 | R46: 1 | S46: 1941 | U46: 60.055 | V46: 3.9e-05 | W46: 0.0032612474 | X46: 0.00066974547
...

Sheet קרנות סל
A1: מספר קופה/קרן/ח.פ. עבור חברת ביטוח | B1: מספר מסלול | C1: שם מנפיק | D1: מספר מנפיק | E1: סוג מספר מזהה מנפיק | F1: שם נייר ערך | G1: מספר נייר ערך | H1: סוג מספר נייר ערך | I1: מאפיין עיקרי | J1: ישראל/חו"ל | K1: מדינה לפי חשיפה כלכלית | L1: זירת מסחר | M1: סיווג הקרן | N1: בעל עניין/צד קשור | O1: מטבע פעילות | P1: ערך נקוב (יחידות) | Q1: שער חליפין | R1: שער נייר הערך | S1: סכום לקבל (במטבע הפעילות) | T1: שווי הוגן (באלפי ש"ח) | U1: שיעור מערך נקוב מונפק | V1: שיעור מנכסי אפיק ההשקעה | W1: שיעור מסך נכסי ההשקעה
A2: 13710 | B2: 13711 | C2: מגדל קרנות נאמנות בע"מ | D2: 511303661 | E2: ח.פ. | F2: Russ2000.MTF | G2: IL0011502429 | H2: ISIN | I2: עוקב אחר מדדי מניות בחו"ל | J2: ישראל | K2: ארה"ב | L2: TASE | M2: RUSSELL 2000 - מניות בחו"ל - מניות גיאוגרפי - חשופת מט"ח-ארה"ב | N2: לא | O2: ILS | P2: 1577 | Q2: 1 | R2: 8063 | T2: 127.154 | U2: 0.00035 | V2: 0.013623637 | W2: 0.0014180524
A3: 13710 | B3: 13711 | C3: הראל קרנות נאמנות בע"מ | D3: 511776783 | E3: ח.פ. | F3: הראל סל DowJones IA | G3: IL0011492282 | H3: ISIN | I3: עוקב אחר מדדי מניות בחו"ל | J3: ישראל | K3: ארה"ב | L3: TASE | M3: מניות בחו"ל - מניות בחו"ל משולבת | N3: לא | O3: ILS | P3: 2452 | Q3: 1 | R3: 19120 | T3: 468.822 | U3: 0.000333 | V3: 0.050231143 | W3: 0.005228442
A4: 13710 | B4: 13711 | C4: State Street Corp | D4: 07F5H7W3ET8ZLWNMFP29 | E4: LEI | F4: CONSUMER STAPLE | G4: US81369Y3080 | H4: ISIN | I4: עוקב אחר מדדי מניות בחו"ל | J4: חו"ל | K4: ארה"ב | L4: NYSE | M4: מניות בחו"ל - מניות בחו"ל משולבת | N4: לא | O4: USD | P4: 754 | Q4: 2.978 | R4: 8307 | T4: 186.526 | U4: 4e-06 | V4: 0.019985037 | W4: 0.0020801957
A5: 13710 | B5: 13711 | C5: State Street Corp | D5: 07F5H7W3ET8ZLWNMFP29 | E5: LEI | F5: FINANCIAL SELEC | G5: US81369Y6059 | H5: ISIN | I5: עוקב אחר מדדי מניות בחו"ל | J5: חו"ל | K5: ארה"ב | L5: NYSE | M5: Financial מניות בחו"ל - מניות לפי ענפים בחו"ל - חשופת מט"ח-ארה"ב- מניות | N5: לא | O5: USD | P5: 1151 | Q5: 2.978 | R5: 5361 | T5: 183.758 | U5: 1e-06 | V5: 0.019688405 | W5: 0.0020493199
A6: 13710 | B6: 13711 | C6: State Street Corp | D6: 07F5H7W3ET8ZLWNMFP29 | E6: LEI | F6: HEALTH CARE SEL | G6: US81369Y2090 | H6: ISIN | I6: עוקב אחר מדדי מניות בחו"ל | J6: חו"ל | K6: ארה"ב | L6: NYSE | M6: Health Care מניות בחו"ל - מניות לפי ענפים בחו"ל - חשופת מט"ח-ארה"ב- מניות | N6: לא | O6: USD | P6: 227 | Q6: 2.978 | R6: 15866 | T6: 107.255 | U6: 1e-06 | V6: 0.011491658 | W6: 0.0011961398
A7: 13710 | B7: 13711 | C7: Invesco investment management limited | D7: 635400KZRKKKNVCJXD85 | E7: LEI | F7: INVESCO NASDAQ | G7: US46138G6492 | H7: ISIN | I7: עוקב אחר מדדי מניות בחו"ל | J7: חו"ל | K7: ארה"ב | L7: NASDAQ | M7: NASDAQ 100 - מניות בחו"ל - מניות גיאוגרפי - חשופת מט"ח-ארה"ב | N7: לא | O7: USD | P7: 3686 | Q7: 2.978 | R7: 30297 | T7: 3325.674 | U7: 0 | V7: 0.35632341 | W7: 0.037088869
A8: 13710 | B8: 13711 | C8: BlackRock Asset Managment | D8: 549300LRIF3NWCU26A80 | E8: LEI | F8: ISHARES CORE EM | G8: IE00BKM4GZ66 | H8: ISIN | I8: עוקב אחר מדדי מניות בחו"ל | J8: חו"ל | K8: ארה"ב | L8: LSE | M8: MSCI EMERGING MARKETS - מניות בחו"ל - מניות גיאוגרפי - חשופת מט"ח-שווקים מתעוררים כללי | N8: לא | O8: USD | P8: 8700 | Q8: 2.978 | R8: 5575 | T8: 1444.404 | U8: 6.5e-05 | V8: 0.15475815 | W8: 0.016108413
A9: 13710 | B9: 13711 | C9: Invesco investment management limited | D9: 635400KZRKKKNVCJXD85 | E9: LEI | F9: Powershares QQQ NAS1 | G9: US73935A1043 | H9: ISIN | I9: עוקב אחר מדדי מניות בחו"ל | J9: חו"ל | K9: ארה"ב | L9: LSE | M9: NASDAQ 100 - מניות בחו"ל - מניות גיאוגרפי - חשופת מט"ח-ארה"ב | N9: לא | O9: USD | P9: 1107 | Q9: 2.978 | R9: 73640 | S9: 0.676 | T9: 2429.662 | U9: 0 | V9: 0.26032183 | W9: 0.027096289
A10: 13710 | B10: 13711 | C10: Invesco investment management limited | D10: 635400KZRKKKNVCJXD85 | E10: LEI | F10: S&P 500 SOURCE | G10: IE00B3YCGJ38 | H10: ISIN | I10: עוקב אחר מדדי מניות בחו"ל | J10: חו"ל | K10: ארה"ב | L10: LSE | M10: S&P 500 - מניות בחו"ל - מניות גיאוגרפי - חשופת מט"ח-ארה"ב | N10: לא | O10: USD | P10: 20650 | Q10: 2.978 | R10: 1500 | T10: 922.436 | U10: 9e-06 | V10: 0.098832712 | W10: 0.010287265
A11: 13710 | B11: 13711 | C11: State Street Corp | D11: 07F5H7W3ET8ZLWNMFP29 | E11: LEI | F11: SPDR S&P BIOTEC | G11: US78464A8707 | H11: ISIN | I11: עוקב אחר מדדי מניות בחו"ל | J11: חו"ל | K11: ארה"ב | L11: NYSE | M11: מניות בחו"ל - מניות בחו"ל משולבת | N11: לא | O11: USD | P11: 292 | Q11: 2.978 | R11: 15825 | T11: 137.61 | U11: 0 | V11: 0.014744022 | W11: 0.0015346707
A12: 13710 | B12: 15444 | C12: מגדל קרנות נאמנות בע"מ | D12: 511303661 | E12: ח.פ. | F12: MTF סל Nasdaq 100 (4A) מנוטרלת | G12: IL0011814451 | H12: ISIN | I12: עוקב אחר מדדי מניות בחו"ל | J12: ישראל | K12: ארה"ב | L12: TASE | M12: NASDAQ 100 - מניות בחו"ל - מניות גיאוגרפי - חשופת מט"ח-ארה"ב | N12: לא | O12: ILS | P12: 4727 | Q12: 1 | R12: 11620 | T12: 549.277 | U12: 0.001168 | V12: 0.056991954 | W12: 0.016988151
A13: 13710 | B13: 15444 | C13: מגדל קרנות נאמנות בע"מ | D13: 511303661 | E13: ח.פ. | F13: MTF סל Nasdaq 100 (4D) | G13: IL0011813875 | H13: ISIN | I13: עוקב אחר מדדי מניות בחו"ל | J13: ישראל | K13: ארה"ב | L13: TASE | M13: NASDAQ 100 - מניות בחו"ל - מניות גיאוגרפי - חשופת מט"ח-ארה"ב | N13: לא | O13: ILS | P13: 7437 | Q13: 1 | R13: 6265 | T13: 465.928 | U13: 0.000372 | V13: 0.048343788 | W13: 0.014410307
A14: 13710 | B14: 15444 | C14: מגדל קרנות נאמנות בע"מ | D14: 511303661 | E14: ח.פ. | F14: MTF500SP ממ | G14: IL0011505729 | H14: ISIN | I14: עוקב אחר מדדי מניות בחו"ל | J14: ישראל | K14: ארה"ב | L14: TASE | M14: S&P 500 - מניות בחו"ל - מניות גיאוגרפי - מנוטרלת מט"ח-ארה"ב | N14: לא | O14: ILS | P14: 5449 | Q14: 1 | R14: 9399 | T14: 512.152 | U14: 0.000224 | V14: 0.053139844 | W14: 0.015839915
A15: 13710 | B15: 15444 | C15: מגדל קרנות נאמנות בע"מ | D15: 511303661 | E15: ח.פ. | F15: Russ2000.MTF | G15: IL0011502429 | H15: ISIN | I15: עוקב אחר מדדי מניות בחו"ל | J15: ישראל | K15: ארה"ב | L15: TASE | M15: RUSSELL 2000 - מניות בחו"ל - מניות גיאוגרפי - חשופת מט"ח-ארה"ב | N15: לא | O15: ILS | P15: 3941 | Q15: 1 | R15: 8063 | T15: 317.763 | U15: 0.000876 | V15: 0.032970453 | W15: 0.0098278263
A16: 13710 | B16: 15444 | C16: הראל קרנות נאמנות בע"מ | D16: 511776783 | E16: ח.פ. | F16: הראל סל 4A S&P 500 מנוטרלת | G16: IL0011491375 | H16: ISIN | I16: עוקב אחר מדדי מניות בחו"ל | J16: ישראל | K16: ארה"ב | L16: TASE | M16: S&P 500 - מניות בחו"ל - מניות גיאוגרפי - מנוטרלת מט"ח-ארה"ב | N16: לא | O16: ILS | P16: 5977 | Q16: 1 | R16: 7085 | T16: 423.47 | U16: 4.9e-05 | V16: 0.04393847 | W16: 0.013097171
A17: 13710 | B17: 15444 | C17: הראל קרנות נאמנות בע"מ | D17: 511776783 | E17: ח.פ. | F17: הראל סל DowJones IA | G17: IL0011492282 | H17: ISIN | I17: עוקב אחר מדדי מניות בחו"ל | J17: ישראל | K17: ארה"ב | L17: TASE | M17: מניות בחו"ל - מניות בחו"ל משולבת | N17: לא | O17: ILS | P17: 1299 | Q17: 1 | R17: 19120 | T17: 248.369 | U17: 0.000176 | V17: 0.025770263 | W17: 0.0076815952
A18: 13710 | B18: 15444 | C18: הראל קרנות נאמנות בע"מ | D18: 511776783 | E18: ח.פ. | F18: הראל סל PR 100 NASDAQ | G18: IL0011491037 | H18: ISIN | I18: עוקב אחר מדדי מניות בחו"ל | J18: ישראל | K18: ארה"ב | L18: TASE | M18: NASDAQ 100 - מניות בחו"ל - מניות גיאוגרפי - חשופת מט"ח-ארה"ב | N18: לא | O18: ILS | P18: 2699 | Q18: 1 | R18: 25140 | T18: 678.529 | U18: 0.000305 | V18: 0.070402807 | W18: 0.020985655
A19: 13710 | B19: 15444 | C19: מיטב קרנות נאמנות בע"מ | D19: 513534974 | E19: ח.פ. | F19: תכלית סל (4D) ‏‏‏Russell 2000 | G19: IL0011444846 | H19: ISIN | I19: עוקב אחר מדדי מניות בחו"ל | J19: ישראל | K19: ארה"ב | L19: TASE | M19: RUSSELL 2000 - מניות בחו"ל - מניות גיאוגרפי - חשופת מט"ח-ארה"ב | N19: לא | O19: ILS | P19: 2958 | Q19: 1 | R19: 9888 | T19: 292.487 | U19: 0.000316 | V19: 0.030347886 | W19: 0.0090460921
A20: 13710 | B20: 15444 | C20: מיטב קרנות נאמנות בע"מ | D20: 513534974 | E20: ח.פ. | F20: תכלית סל (A‏4)י 500 S&P מנוטרלת מטח | G20: IL0011438178 | H20: ISIN | I20: עוקב אחר מדדי מניות בחו"ל | J20: ישראל | K20: ארה"ב | L20: TASE | M20: S&P 500 - מניות בחו"ל - מניות גיאוגרפי - מנוטרלת מט"ח-ארה"ב | N20: לא | O20: ILS | P20: 13379 | Q20: 1 | R20: 6428 | T20: 860.002 | U20: 0.000104 | V20: 0.089232146 | W20: 0.026598301
